BEGIN:VCALENDAR
VERSION:2.0
PRODID:-//Sarasota Polo Club - ECPv6.6.4.2//NONSGML v1.0//EN
CALSCALE:GREGORIAN
METHOD:PUBLISH
X-WR-CALNAME:Sarasota Polo Club
X-ORIGINAL-URL:https://sarasotapolo.com
X-WR-CALDESC:Events for Sarasota Polo Club
REFRESH-INTERVAL;VALUE=DURATION:PT1H
X-Robots-Tag:noindex
X-PUBLISHED-TTL:PT1H
BEGIN:VTIMEZONE
TZID:America/New_York
BEGIN:DAYLIGHT
TZOFFSETFROM:-0500
TZOFFSETTO:-0400
TZNAME:EDT
DTSTART:20240310T070000
END:DAYLIGHT
BEGIN:STANDARD
TZOFFSETFROM:-0400
TZOFFSETTO:-0500
TZNAME:EST
DTSTART:20241103T060000
END:STANDARD
END:VTIMEZONE
BEGIN:VEVENT
DTSTART;TZID=America/New_York:20240404T173000
DTEND;TZID=America/New_York:20240404T210000
DTSTAMP:20260423T113028
CREATED:20231115T025614Z
LAST-MODIFIED:20231211T184647Z
UID:3698-1712251800-1712264400@sarasotapolo.com
SUMMARY:Sunset Polo Happy Hour at the Sarasota Polo Club
DESCRIPTION:About Sunset Polo Happy Hour \nJoin the party for Sunset Polo Happy Hour at the Sarasota Polo Club\, every Thursday night beginning March 14th through April 11th. Enjoy exciting polo action\, food\, drinks\, and divot-stomping against a backdrop of a breathtaking sunset. Families are welcome. Gates open at 4:30pm. Match begins at 5:30pm. Dress comfortably and for the weather. Remember\, you will be walking on grass. Well-socialized dogs are welcome on a leash. We look forward to welcoming you and your guests to experience the thrill of Sarasota Polo\, “the fastest game on four feet!” \nFieldside general admission tailgating\, reserved tailgating\, reserved midfield premium seating or VIP midfield boxes are available for Sunday Polo. Children 12 and under are free\, (general admission tailgating). Dress comfortably & for the weather. Remember\, you will be walking on grass. Well-socialized dogs are welcome on a leash. \nTo purchase tickets for Sunset Polo Happy Hour\, please visit Eventbrite. \nFor more information or for FAQ please visit:  Polo FAQ. \nWe look forward to welcoming you and your guests to experience the thrill of Sarasota Polo\, “the fastest game on four feet!” \nAbout the Sarasota Polo Club \nPolo is a community sport like no other. The Sarasota Polo Club is one of the largest\, most dedicated and enthusiastic polo communities in the world. An estimated 50\,000 spectators will be on hand during our 2024 Sarasota Polo Season which runs Sunday December 31st 2023 through Saturday April 12th 2024. \nEstablished in 1991 as the first development in the award-winning\, master-planned community of Lakewood Ranch\, the Sarasota Polo Club has a remarkable legacy. In 1922\, our property was settled as a 28\,000-acre timber ranch. Originally\, the cowboys who worked on our ranch began playing knock-around polo games in their free time. Riding their quarter horses with stock saddles\, using make-shift equipment and knowing very little about polo\, the cowboys played by their own rules. Rule #1 was the first rider to fall off their horse bought beer for the team\, a tradition that remains in place today. Eventually mallets\, saddles and a few polo ponies were donated to the “cowboy games” and in 1991\, a real polo club was born. \nToday the Sarasota Polo Club spans 170 perfectly manicured acres. Our world-class facilities include: 45 private equestrian estates\, 7 Bermuda grass polo fields\, a regulation-sized polo arena\, a half-mile all weather exercise track\, dedicated stick & ball fields\, riding trails\, on-site stabling for up to 300 horses\, a polo school\, on-site veterinary care and a midfield polo pavilion
URL:https://sarasotapolo.com/event/sunset-polo-happy-hour-community-concert-series-at-the-sarasota-polo-club-3/
LOCATION:Sarasota Polo Club\, 8201 Polo Club Lane\, Sarasota\, FL\, 34240\, United States
CATEGORIES:Thursday Sunset Polo Happy Hour
ATTACH;FMTTYPE=image/jpeg:https://sarasotapolo.com/wp-content/uploads/2021/11/Sunset-Polo-Pic-7-Post.jpg
END:VEVENT
BEGIN:VEVENT
DTSTART;TZID=America/New_York:20240407T130000
DTEND;TZID=America/New_York:20240407T153000
DTSTAMP:20260423T113028
CREATED:20231115T023151Z
LAST-MODIFIED:20231115T023151Z
UID:3694-1712494800-1712503800@sarasotapolo.com
SUMMARY:Sunday Polo at the Sarasota Polo Club - Super Hero Sunday & Kid’s Day Sponsored by Johns Hopkins All Children’s Foundation
DESCRIPTION:About Sunday Polo \nJoin us for Sunday Polo at the Sarasota Polo Club – Super Hero Sunday & Kid’s Day Sponsored by Johns Hopkins All Children’s Foundation. Costume contests for Best Superhero\, Best Super Villain and Best Super Group. Prizes for adults and children. Sunday Polo matches are open to the public every Sunday at 1pm\, December 31st 2023 through April 7th 2024. Gates open at 10am. Join thousands of fans each week for exciting polo action\, opening parade\, live national anthem\, theme weeks\, half-time entertainment\, wagon rides\, food\, drinks and traditional divot-stomping. \nFieldside general admission tailgating\, reserved tailgating\, reserved midfield premium seating or VIP midfield boxes are available for Sunday Polo. Children 12 and under are free\, (general admission tailgating). Dress comfortably & for the weather. Remember\, you will be walking on grass. Well-socialized dogs are welcome on a leash. \nTo purchase tickets for Sunday Polo\, please visit Eventbrite. \nFor more information or for FAQ please visit: Sunday Polo FAQ. \nWe look forward to welcoming you and your guests to experience the thrill of Sarasota Polo\, “the fastest game on four feet!” \nAbout the Sarasota Polo Club \nPolo is a community sport like no other. The Sarasota Polo Club is one of the largest\, most dedicated and enthusiastic polo communities in the world. An estimated 50\,000 spectators will be on hand during our 2024 Sarasota Polo Season which runs Sunday December 31st 2023 through Saturday April 12th 2024. \nEstablished in 1991 as the first development in the award-winning\, master-planned community of Lakewood Ranch\, the Sarasota Polo Club has a remarkable legacy. In 1922\, our property was settled as a 28\,000-acre timber ranch. Originally\, the cowboys who worked on our ranch began playing knock-around polo games in their free time. Riding their quarter horses with stock saddles\, using make-shift equipment and knowing very little about polo\, the cowboys played by their own rules. Rule #1 was the first rider to fall off their horse bought beer for the team\, a tradition that remains in place today. Eventually mallets\, saddles and a few polo ponies were donated to the “cowboy games” and in 1991\, a real polo club was born. \nToday the Sarasota Polo Club spans 170 perfectly manicured acres. Our world-class facilities include: 45 private equestrian estates\, 7 Bermuda grass polo fields\, a regulation-sized polo arena\, a half-mile all weather exercise track\, dedicated stick & ball fields\, riding trails\, on-site stabling for up to 300 horses\, a polo school\, on-site veterinary care and a midfield polo pavilion.
URL:https://sarasotapolo.com/event/join-us-for-sunday-polo-at-the-sarasota-polo-club-super-hero-sunday-kids-day-sponsored-by-johns-hopkins-all-childrens-foundation-costume-contests-for-best-superhero-best-super/
LOCATION:Sarasota Polo Club\, 8201 Polo Club Lane\, Sarasota\, FL\, 34240\, United States
CATEGORIES:Sunday Polo
ATTACH;FMTTYPE=image/jpeg:https://sarasotapolo.com/wp-content/uploads/2022/12/2022-01-02_SRQ_Polo_JAA-64.jpg
END:VEVENT
END:VCALENDAR